Workbook
Name calendarRange: Calendar!$6:$43
Name daysInMonth: Settings!$G$9
Name MonFirst: Settings!$G$13
Name month: Calendar!$C$3
Name monthName: Settings!$G$6
Name monthNames: Settings!$C$5:$C$16
Name nextMonth: Settings!$G$11
Name nextMonthName: Settings!$G$12
Name prevMonth: Settings!$G$9
Name prevMonthName: Settings!$G$10
Name startDate: Settings!$G$7
Name startDayOfWeek: Settings!$G$8
Name thisMonth: Settings!$A$6
Name thisMonthName: Settings!$A$7
Name thisYear: Settings!$A$8
Name weekday: {1,2,3,4,5,6,7}
Name weekend_dates: Calendar!$A$38,Calendar!$A$32,Calendar!$A$26,Calendar!$A$20,Calendar!$A$14,Calendar!$A$8,Calendar!$M$8,Calendar!$M$14,Calendar!$M$20,Calendar!$M$26,Calendar!$M$32
Name WeekNo: {1;2;3;4;5;6}
Name year: Calendar!$F$3

Sheet Help
A1: Monthly Calendar Help | H1: © 2007 Vertex42 LLC
A2: Note: These instructions apply to Excel 2000/2002(XP)/2003
A3: Also, if you are trying to figure out how the template works, you'll need to do two things:
A4: 1) Go to Insert > Names… > Define, and take note of the named ranges
A5: 2) Unhide the Settings sheet by going to Format > Sheet > Unhide …
A7: Using the Calendar as a Template
B9: To add events to the calendar and use the spreadsheet for more than just one month,
B10: first make a copy of the current month and paste it into the Planning worksheet.
B12: 1) Select the Calendar Range. This can be done quickly by pressing Ctrl+G
B13: and then selecting "calendarRange" from the list box.
B15: 2) Copy the Whole Calendar. Press Ctrl+c or select Edit -> Copy
B17: 3) Paste the Calendar into the Planning worksheet
C18: The planning worksheet has been formatted so that the column widths
C19: are the same as the Calendar worksheet.
C20: a) Select cell A1 in the Planning worksheet
C21: b) Press Ctrl+v or select Edit -> Paste
B23: 4) Convert Formulas to Static Dates
C24: Pasting the calendar will also paste the cell formulas, so …
C25: Immediately after pasting the calendar …
C26: a) Select Edit -> Paste Special …
C27: b) Choose the "Values" option, and select OK
A30: Copying the Calendar to a New Workbook
B32: The best way to copy your calendar to a separate workbook is to first copy your
B33: calendar to the Planning worksheet as mentioned above and then copy the Planning worksheet
B34: into a new workbook. This is done by right-clicking on the worksheet tab and selecting
B35: Move or Copy… as shown below. Make sure you COPY the worksheet and don't MOVE it.
B37: By repeating the process of copying the calendar to the Planning worksheet and then copying
B38: the worksheet to the new workbook, you can create a 12-month calendar in which you have each
B39: month on a different worksheet.
B53: Copying the Color Scheme
B54: When coping the sheet to a new workbook, the color scheme will change to that of the new
B55: workbook. In Excel 2000/2002(XP)/2003, this will be very obvious (the calendar will turn a
B56: hideous orange color. To update the colors in the new workbook, follow the directions below.
C58: In the New Excel Workbook …
C59: 1) Go to Tools -> Options…
C60: 2) Choose the "Color" tab
C61: 3) In the "Copy colors from" field, choose this file (the excel calendar template).
C62: Note: You can only copy colors from a file that is already open.
A65: Copying the Mini Calendars
B67: To create copies of the previous and next month calendars as pictures, rather
...

Sheet Calendar
A1: Monthly Calendar Template | K1: version 1.1 | N1: © 2007 Vertex42 LLC
C2: Month | F2: Year | N2: Visit Vertex42.com for More Calendars!
C3: 5 | F3: 2014
F6: =UPPER(monthName&" "&year) -> MAY 2014 | K6: Alg IIB
A7: =Settings!B18 -> Sunday | C7: =Settings!D18 -> Monday | E7: =Settings!F18 -> Tuesday | G7: =Settings!H18 -> Wednesday | I7: =Settings!J18 -> Thursday | K7: =Settings!L18 -> Friday | M7: =Settings!N18 -> Saturday
A8: =Settings!B20 | C8: =Settings!D20 | E8: =Settings!F20 | G8: =Settings!H20 | I8: =Settings!J20 -> 41760 | J8: G-Day (51"/day) | K8: =Settings!L20 -> 41761 | M8: =Settings!N20 -> 41762
A14: =Settings!B21 -> 41763 | C14: =Settings!D21 -> 41764 | E14: =Settings!F21 -> 41765 | G14: =Settings!H21 -> 41766 | I14: =Settings!J21 -> 41767 | K14: =Settings!L21 -> 41768 | M14: =Settings!N21 -> 41769
A20: =Settings!B22 -> 41770 | C20: =Settings!D22 -> 41771 | E20: =Settings!F22 -> 41772 | G20: =Settings!H22 -> 41773 | I20: =Settings!J22 -> 41774 | J20: Col Day - (45"/per) | K20: =Settings!L22 -> 41775 | L20: min day (39"/per) | M20: =Settings!N22 -> 41776
A26: =Settings!B23 -> 41777 | C26: =Settings!D23 -> 41778 | E26: =Settings!F23 -> 41779 | G26: =Settings!H23 -> 41780 | I26: =Settings!J23 -> 41781 | K26: =Settings!L23 -> 41782 | M26: =Settings!N23 -> 41783
A32: =Settings!B24 -> 41784 | C32: =Settings!D24 -> 41785 | E32: =Settings!F24 -> 41786 | G32: =Settings!H24 -> 41787 | I32: =Settings!J24 -> 41788 | J32: min day (39"/per) | K32: =Settings!L24 -> 41789 | M32: =Settings!N24 -> 41790
A38: =Settings!B25 | C38: =Settings!D25 | K38: Notes:
K43: © 2007 Vertex42 LLC | N43: http://www.vertex42.com

Sheet Planning
A2: (See "Using The Calendar as a Template" in the Help worksheet)

Sheet Settings
A1: Settings and Formulas
A4: Today's Date | C4: Month Names | F4: month | G4: =month -> 5
A5: =TODAY() -> 41768 | C5: January | F5: year | G5: =year -> 2014
A6: =MONTH(TODAY()) -> 5 | C6: February | F6: monthName | G6: =INDEX(monthNames,month) -> May
A7: =INDEX(monthNames,A6) -> May | C7: March | F7: startDate | G7: =DATE(year,month,1) -> 41760
A8: =YEAR(TODAY()) -> 2014 | C8: April | F8: startDayOfWeek | G8: =WEEKDAY(startDate) -> 5
C9: May | F9: prevMonth | G9: =DATE(YEAR(startDate-1),MONTH(startDate-1),1) -> 41730
C10: June | F10: prevMonthName | G10: =INDEX(monthNames,MONTH(G9)) -> April
C11: July | F11: nextMonth | G11: =DATE(YEAR(startDate+32),MONTH(startDate+32),1) -> 41791
C12: August | F12: nextMonthName | G12: =INDEX(monthNames,MONTH(G11)) -> June
C13: September | F13: MonFirst | G13: FALSE
C14: October
C15: November
C16: December
A18: WeekNo | B18: =IF(MonFirst,"Monday","Sunday") -> Sunday | D18: =IF(MonFirst,"Tuesday","Monday") -> Monday | F18: =IF(MonFirst,"Wednesday","Tuesday") -> Tuesday | H18: =IF(MonFirst,"Thursday","Wednesday") -> Wednesday | J18: =IF(MonFirst,"Friday","Thursday") -> Thursday | L18: =IF(MonFirst,"Saturday","Friday") -> Friday | N18: =IF(MonFirst,"Sunday","Saturday") -> Saturday
B19: 1 | D19: 2 | F19: 3 | H19: 4 | J19: 5 | L19: 6 | N19: 7
A20: 1 | B20: =P39 | D20: =Q39 | F20: =R39 | H20: =S39 | J20: =T39 -> 41760 | L20: =U39 -> 41761 | N20: =V39 -> 41762
A21: 2 | B21: =P40 -> 41763 | D21: =Q40 -> 41764 | F21: =R40 -> 41765 | H21: =S40 -> 41766 | J21: =T40 -> 41767 | L21: =U40 -> 41768 | N21: =V40 -> 41769
A22: 3 | B22: =P41 -> 41770 | D22: =Q41 -> 41771 | F22: =R41 -> 41772 | H22: =S41 -> 41773 | J22: =T41 -> 41774 | L22: =U41 -> 41775 | N22: =V41 -> 41776
A23: 4 | B23: =P42 -> 41777 | D23: =Q42 -> 41778 | F23: =R42 -> 41779 | H23: =S42 -> 41780 | J23: =T42 -> 41781 | L23: =U42 -> 41782 | N23: =V42 -> 41783
A24: 5 | B24: =P43 -> 41784 | D24: =Q43 -> 41785 | F24: =R43 -> 41786 | H24: =S43 -> 41787 | J24: =T43 -> 41788 | L24: =U43 -> 41789 | N24: =V43 -> 41790
A25: 6 | B25: =P44 | D25: =Q44 | F25: =R44 | H25: =S44 | J25: =T44 | L25: =U44 | N25: =V44
X26: SUNDAY First | AF26: MONDAY First
P28: =prevMonthName&" "&YEAR(prevMonth) -> April 2014 | X28: =prevMonthName&" "&YEAR(prevMonth) -> April 2014 | AF28: =prevMonthName&" "&YEAR(prevMonth) -> April 2014
P29: =IF(MonFirst,AF29,X29) -> S | Q29: =IF(MonFirst,AG29,Y29) -> M | R29: =IF(MonFirst,AH29,Z29) -> T | S29: =IF(MonFirst,AI29,AA29) -> W | T29: =IF(MonFirst,AJ29,AB29) -> Th | U29: =IF(MonFirst,AK29,AC29) -> F | V29: =IF(MonFirst,AL29,AD29) -> Sa | X29: S | Y29: M | Z29: T | AA29: W | AB29: Th | AC29: F | AD29: Sa | AF29: M | AG29: T | AH29: W | AI29: Th | AJ29: F | AK29: Sa | AL29: Su
P30: =IF(MonFirst,AF30,X30) | Q30: =IF(MonFirst,AG30,Y30) | R30: =IF(MonFirst,AH30,Z30) -> 41730 | S30: =IF(MonFirst,AI30,AA30) -> 41731 | T30: =IF(MonFirst,AJ30,AB30) -> 41732 | U30: =IF(MonFirst,AK30,AC30) -> 41733 | V30: =IF(MonFirst,AL30,AD30) -> 41734 | X30: {=IF(MONTH(prevMonth)<>MONTH(prevMonth-WEEKDAY(prevMonth)+(WeekNo-1)*7+weekday),"",prevMonth-WEEKDAY(prevMonth)+(WeekNo-1)*7+weekday)} | Z30: 41730 | AA30: 41731 | AB30: 41732 | AC30: 41733 | AD30: 41734 | AF30: {=IF(MONTH(prevMonth)<>MONTH(prevMonth-WEEKDAY(prevMonth,2)+(WeekNo-1)*7+weekday),"",prevMonth-WEEKDAY(prevMonth,2)+(WeekNo-1)*7+weekday)} | AG30: 41730 | AH30: 41731 | AI30: 41732 | AJ30: 41733 | AK30: 41734 | AL30: 41735
P31: =IF(MonFirst,AF31,X31) -> 41735 | Q31: =IF(MonFirst,AG31,Y31) -> 41736 | R31: =IF(MonFirst,AH31,Z31) -> 41737 | S31: =IF(MonFirst,AI31,AA31) -> 41738 | T31: =IF(MonFirst,AJ31,AB31) -> 41739 | U31: =IF(MonFirst,AK31,AC31) -> 41740 | V31: =IF(MonFirst,AL31,AD31) -> 41741 | X31: 41735 | Y31: 41736 | Z31: 41737 | AA31: 41738 | AB31: 41739 | AC31: 41740 | AD31: 41741 | AF31: 41736 | AG31: 41737 | AH31: 41738 | AI31: 41739 | AJ31: 41740 | AK31: 41741 | AL31: 41742
P32: =IF(MonFirst,AF32,X32) -> 41742 | Q32: =IF(MonFirst,AG32,Y32) -> 41743 | R32: =IF(MonFirst,AH32,Z32) -> 41744 | S32: =IF(MonFirst,AI32,AA32) -> 41745 | T32: =IF(MonFirst,AJ32,AB32) -> 41746 | U32: =IF(MonFirst,AK32,AC32) -> 41747 | V32: =IF(MonFirst,AL32,AD32) -> 41748 | X32: 41742 | Y32: 41743 | Z32: 41744 | AA32: 41745 | AB32: 41746 | AC32: 41747 | AD32: 41748 | AF32: 41743 | AG32: 41744 | AH32: 41745 | AI32: 41746 | AJ32: 41747 | AK32: 41748 | AL32: 41749
P33: =IF(MonFirst,AF33,X33) -> 41749 | Q33: =IF(MonFirst,AG33,Y33) -> 41750 | R33: =IF(MonFirst,AH33,Z33) -> 41751 | S33: =IF(MonFirst,AI33,AA33) -> 41752 | T33: =IF(MonFirst,AJ33,AB33) -> 41753 | U33: =IF(MonFirst,AK33,AC33) -> 41754 | V33: =IF(MonFirst,AL33,AD33) -> 41755 | X33: 41749 | Y33: 41750 | Z33: 41751 | AA33: 41752 | AB33: 41753 | AC33: 41754 | AD33: 41755 | AF33: 41750 | AG33: 41751 | AH33: 41752 | AI33: 41753 | AJ33: 41754 | AK33: 41755 | AL33: 41756
P34: =IF(MonFirst,AF34,X34) -> 41756 | Q34: =IF(MonFirst,AG34,Y34) -> 41757 | R34: =IF(MonFirst,AH34,Z34) -> 41758 | S34: =IF(MonFirst,AI34,AA34) -> 41759 | T34: =IF(MonFirst,AJ34,AB34) | U34: =IF(MonFirst,AK34,AC34) | V34: =IF(MonFirst,AL34,AD34) | X34: 41756 | Y34: 41757 | Z34: 41758 | AA34: 41759 | AF34: 41757 | AG34: 41758 | AH34: 41759
P35: =IF(MonFirst,AF35,X35) | Q35: =IF(MonFirst,AG35,Y35) | R35: =IF(MonFirst,AH35,Z35) | S35: =IF(MonFirst,AI35,AA35) | T35: =IF(MonFirst,AJ35,AB35) | U35: =IF(MonFirst,AK35,AC35) | V35: =IF(MonFirst,AL35,AD35)
P37: =monthName&" "&year -> May 2014 | X37: =monthName&" "&year -> May 2014 | AF37: =monthName&" "&year -> May 2014
P38: =IF(MonFirst,AF38,X38) -> S | Q38: =IF(MonFirst,AG38,Y38) -> M | R38: =IF(MonFirst,AH38,Z38) -> T | S38: =IF(MonFirst,AI38,AA38) -> W | T38: =IF(MonFirst,AJ38,AB38) -> Th | U38: =IF(MonFirst,AK38,AC38) -> F | V38: =IF(MonFirst,AL38,AD38) -> Sa | X38: S | Y38: M | Z38: T | AA38: W | AB38: Th | AC38: F | AD38: Sa | AF38: M | AG38: T | AH38: W | AI38: Th | AJ38: F | AK38: Sa | AL38: Su
P39: =IF(MonFirst,AF39,X39) | Q39: =IF(MonFirst,AG39,Y39) | R39: =IF(MonFirst,AH39,Z39) | S39: =IF(MonFirst,AI39,AA39) | T39: =IF(MonFirst,AJ39,AB39) -> 41760 | U39: =IF(MonFirst,AK39,AC39) -> 41761 | V39: =IF(MonFirst,AL39,AD39) -> 41762 | X39: {=IF(MONTH(startDate)<>MONTH(startDate-startDayOfWeek+(WeekNo-1)*7+weekday),"",startDate-startDayOfWeek+(WeekNo-1)*7+weekday)} | AB39: 41760 | AC39: 41761 | AD39: 41762 | AF39: {=IF(MONTH(startDate)<>MONTH(startDate-WEEKDAY(startDate,2)+(WeekNo-1)*7+weekday),"",startDate-WEEKDAY(startDate,2)+(WeekNo-1)*7+weekday)} | AI39: 41760 | AJ39: 41761 | AK39: 41762 | AL39: 41763
P40: =IF(MonFirst,AF40,X40) -> 41763 | Q40: =IF(MonFirst,AG40,Y40) -> 41764 | R40: =IF(MonFirst,AH40,Z40) -> 41765 | S40: =IF(MonFirst,AI40,AA40) -> 41766 | T40: =IF(MonFirst,AJ40,AB40) -> 41767 | U40: =IF(MonFirst,AK40,AC40) -> 41768 | V40: =IF(MonFirst,AL40,AD40) -> 41769 | X40: 41763 | Y40: 41764 | Z40: 41765 | AA40: 41766 | AB40: 41767 | AC40: 41768 | AD40: 41769 | AF40: 41764 | AG40: 41765 | AH40: 41766 | AI40: 41767 | AJ40: 41768 | AK40: 41769 | AL40: 41770
P41: =IF(MonFirst,AF41,X41) -> 41770 | Q41: =IF(MonFirst,AG41,Y41) -> 41771 | R41: =IF(MonFirst,AH41,Z41) -> 41772 | S41: =IF(MonFirst,AI41,AA41) -> 41773 | T41: =IF(MonFirst,AJ41,AB41) -> 41774 | U41: =IF(MonFirst,AK41,AC41) -> 41775 | V41: =IF(MonFirst,AL41,AD41) -> 41776 | X41: 41770 | Y41: 41771 | Z41: 41772 | AA41: 41773 | AB41: 41774 | AC41: 41775 | AD41: 41776 | AF41: 41771 | AG41: 41772 | AH41: 41773 | AI41: 41774 | AJ41: 41775 | AK41: 41776 | AL41: 41777
P42: =IF(MonFirst,AF42,X42) -> 41777 | Q42: =IF(MonFirst,AG42,Y42) -> 41778 | R42: =IF(MonFirst,AH42,Z42) -> 41779 | S42: =IF(MonFirst,AI42,AA42) -> 41780 | T42: =IF(MonFirst,AJ42,AB42) -> 41781 | U42: =IF(MonFirst,AK42,AC42) -> 41782 | V42: =IF(MonFirst,AL42,AD42) -> 41783 | X42: 41777 | Y42: 41778 | Z42: 41779 | AA42: 41780 | AB42: 41781 | AC42: 41782 | AD42: 41783 | AF42: 41778 | AG42: 41779 | AH42: 41780 | AI42: 41781 | AJ42: 41782 | AK42: 41783 | AL42: 41784
P43: =IF(MonFirst,AF43,X43) -> 41784 | Q43: =IF(MonFirst,AG43,Y43) -> 41785 | R43: =IF(MonFirst,AH43,Z43) -> 41786 | S43: =IF(MonFirst,AI43,AA43) -> 41787 | T43: =IF(MonFirst,AJ43,AB43) -> 41788 | U43: =IF(MonFirst,AK43,AC43) -> 41789 | V43: =IF(MonFirst,AL43,AD43) -> 41790 | X43: 41784 | Y43: 41785 | Z43: 41786 | AA43: 41787 | AB43: 41788 | AC43: 41789 | AD43: 41790 | AF43: 41785 | AG43: 41786 | AH43: 41787 | AI43: 41788 | AJ43: 41789 | AK43: 41790
P44: =IF(MonFirst,AF44,X44) | Q44: =IF(MonFirst,AG44,Y44) | R44: =IF(MonFirst,AH44,Z44) | S44: =IF(MonFirst,AI44,AA44) | T44: =IF(MonFirst,AJ44,AB44) | U44: =IF(MonFirst,AK44,AC44) | V44: =IF(MonFirst,AL44,AD44)
P46: =nextMonthName&" "&YEAR(nextMonth) -> June 2014 | X46: =nextMonthName&" "&YEAR(nextMonth) -> June 2014 | AF46: =nextMonthName&" "&YEAR(nextMonth) -> June 2014
...
